BEGIN:VCALENDAR
VERSION:2.0
PRODID:-//Alberta 5 Pin Bowlers' Association - ECPv6.15.20//NONSGML v1.0//EN
CALSCALE:GREGORIAN
METHOD:PUBLISH
X-ORIGINAL-URL:https://alberta5pin.com
X-WR-CALDESC:Events for Alberta 5 Pin Bowlers' Association
REFRESH-INTERVAL;VALUE=DURATION:PT1H
X-Robots-Tag:noindex
X-PUBLISHED-TTL:PT1H
BEGIN:VTIMEZONE
TZID:America/Edmonton
BEGIN:DAYLIGHT
TZOFFSETFROM:-0700
TZOFFSETTO:-0600
TZNAME:MDT
DTSTART:20240310T090000
END:DAYLIGHT
BEGIN:STANDARD
TZOFFSETFROM:-0600
TZOFFSETTO:-0700
TZNAME:MST
DTSTART:20241103T080000
END:STANDARD
BEGIN:DAYLIGHT
TZOFFSETFROM:-0700
TZOFFSETTO:-0600
TZNAME:MDT
DTSTART:20250309T090000
END:DAYLIGHT
BEGIN:STANDARD
TZOFFSETFROM:-0600
TZOFFSETTO:-0700
TZNAME:MST
DTSTART:20251102T080000
END:STANDARD
BEGIN:DAYLIGHT
TZOFFSETFROM:-0700
TZOFFSETTO:-0600
TZNAME:MDT
DTSTART:20260308T090000
END:DAYLIGHT
BEGIN:STANDARD
TZOFFSETFROM:-0600
TZOFFSETTO:-0700
TZNAME:MST
DTSTART:20261101T080000
END:STANDARD
END:VTIMEZONE
BEGIN:VEVENT
DTSTART;TZID=America/Edmonton:20251101T180000
DTEND;TZID=America/Edmonton:20251130T210000
DTSTAMP:20260422T164447
CREATED:20231006T061201Z
LAST-MODIFIED:20240920T195435Z
UID:9870-1762020000-1764536400@alberta5pin.com
SUMMARY:A5PBA November Board Meeting - Date to be confirmed
DESCRIPTION:Board members and invited guests. \nMeeting as required\, time and date TBA
URL:https://alberta5pin.com/https-alberta5pin-com-event-single-post-name/a5pba-november-board-meeting/
LOCATION:Virtual / Online Event\, Canada
END:VEVENT
END:VCALENDAR