BEGIN:VCALENDAR
VERSION:2.0
PRODID:-//Alberta 5 Pin Bowlers' Association - ECPv6.15.20//NONSGML v1.0//EN
CALSCALE:GREGORIAN
METHOD:PUBLISH
X-WR-CALNAME:Alberta 5 Pin Bowlers' Association
X-ORIGINAL-URL:https://alberta5pin.com
X-WR-CALDESC:Events for Alberta 5 Pin Bowlers' Association
REFRESH-INTERVAL;VALUE=DURATION:PT1H
X-Robots-Tag:noindex
X-PUBLISHED-TTL:PT1H
BEGIN:VTIMEZONE
TZID:America/Edmonton
BEGIN:DAYLIGHT
TZOFFSETFROM:-0700
TZOFFSETTO:-0600
TZNAME:MDT
DTSTART:20230312T090000
END:DAYLIGHT
BEGIN:STANDARD
TZOFFSETFROM:-0600
TZOFFSETTO:-0700
TZNAME:MST
DTSTART:20231105T080000
END:STANDARD
BEGIN:DAYLIGHT
TZOFFSETFROM:-0700
TZOFFSETTO:-0600
TZNAME:MDT
DTSTART:20240310T090000
END:DAYLIGHT
BEGIN:STANDARD
TZOFFSETFROM:-0600
TZOFFSETTO:-0700
TZNAME:MST
DTSTART:20241103T080000
END:STANDARD
BEGIN:DAYLIGHT
TZOFFSETFROM:-0700
TZOFFSETTO:-0600
TZNAME:MDT
DTSTART:20250309T090000
END:DAYLIGHT
BEGIN:STANDARD
TZOFFSETFROM:-0600
TZOFFSETTO:-0700
TZNAME:MST
DTSTART:20251102T080000
END:STANDARD
BEGIN:DAYLIGHT
TZOFFSETFROM:-0700
TZOFFSETTO:-0600
TZNAME:MDT
DTSTART:20260308T090000
END:DAYLIGHT
BEGIN:STANDARD
TZOFFSETFROM:-0600
TZOFFSETTO:-0700
TZNAME:MST
DTSTART:20261101T080000
END:STANDARD
END:VTIMEZONE
BEGIN:VEVENT
DTSTART;TZID=America/Edmonton:20250117T000000
DTEND;TZID=America/Edmonton:20250118T235900
DTSTAMP:20260422T171957
CREATED:20231006T014200Z
LAST-MODIFIED:20240920T201635Z
UID:9842-1737072000-1737244740@alberta5pin.com
SUMMARY:C5PBA Semi-Annual Meeting
DESCRIPTION:Alberta has two representatives attending the meetings. \nMeetings in Ottawa or virtually
URL:https://alberta5pin.com/https-alberta5pin-com-event-single-post-name/c5pba-semi-annual-meeting-2/
LOCATION:Virtual / Online Event\, Canada
END:VEVENT
BEGIN:VEVENT
DTSTART;VALUE=DATE:20250101
DTEND;VALUE=DATE:20250131
DTSTAMP:20260422T171957
CREATED:20231006T013052Z
LAST-MODIFIED:20240920T195631Z
UID:9831-1735689600-1738281599@alberta5pin.com
SUMMARY:A5PBA January Board Meeting - Date to be confirmed
DESCRIPTION:Board members and invited guests. \nMeeting as required\, time and date TBA
URL:https://alberta5pin.com/https-alberta5pin-com-event-single-post-name/a5pba-board-meeting-2/
LOCATION:A5PBA\, 432-14 St. South\, Lethbridge\, AB\, T1J 2X7\, Canada
END:VEVENT
BEGIN:VEVENT
DTSTART;TZID=America/Edmonton:20250101T000000
DTEND;TZID=America/Edmonton:20250115T235900
DTSTAMP:20260422T171957
CREATED:20220908T052659Z
LAST-MODIFIED:20240920T201430Z
UID:7654-1735689600-1736985540@alberta5pin.com
SUMMARY:League Executive Lineage Draw - Final date is January 15
DESCRIPTION:Enter into a draw to receive $450 toward your lineage fees for one league for the next bowling season. \n\n\n\nThe following executive members are eligible for the award:          – President / Vice-President          – Secretary / Secretary-Treasurer / Statistician          – Treasurer          – Local and zone association executive members holding the above positions. \n\n\n\nTo enter you must be a 5 pin member \n\n\n\n 
URL:https://alberta5pin.com/https-alberta5pin-com-event-single-post-name/league-executive-lineage-draw/
LOCATION:Ab.
END:VEVENT
BEGIN:VEVENT
DTSTART;VALUE=DATE:20241101
DTEND;VALUE=DATE:20241201
DTSTAMP:20260422T171957
CREATED:20240920T200838Z
LAST-MODIFIED:20240920T200900Z
UID:11053-1730419200-1733011199@alberta5pin.com
SUMMARY:A5PBA November Board Meeting - Date to be confirmed
DESCRIPTION:Board members and invited guests. \nMeeting as required\, time and date TBA
URL:https://alberta5pin.com/https-alberta5pin-com-event-single-post-name/a5pba-november-board-meeting-date-to-be-confirmed/
LOCATION:Virtual / Online Event\, Canada
END:VEVENT
BEGIN:VEVENT
DTSTART;VALUE=DATE:20241101
DTEND;VALUE=DATE:20241201
DTSTAMP:20260422T171957
CREATED:20231006T013313Z
LAST-MODIFIED:20240920T201207Z
UID:9833-1730419200-1733011199@alberta5pin.com
SUMMARY:Coach of the Year Deadline - Final day to submit is November 30
DESCRIPTION:Coach of the Year and Grass Roots Coach of the year forms submitted to A5PBA. \nFinal day for submission is November 30th. \n  \n 
URL:https://alberta5pin.com/https-alberta5pin-com-event-single-post-name/coach-of-the-year-deadline-2/
LOCATION:A5PBA\, 432-14 St. South\, Lethbridge\, AB\, T1J 2X7\, Canada
END:VEVENT
END:VCALENDAR