BEGIN:VCALENDAR
VERSION:2.0
PRODID:-//Alberta 5 Pin Bowlers' Association - ECPv6.15.20//NONSGML v1.0//EN
CALSCALE:GREGORIAN
METHOD:PUBLISH
X-ORIGINAL-URL:https://alberta5pin.com
X-WR-CALDESC:Events for Alberta 5 Pin Bowlers' Association
REFRESH-INTERVAL;VALUE=DURATION:PT1H
X-Robots-Tag:noindex
X-PUBLISHED-TTL:PT1H
BEGIN:VTIMEZONE
TZID:America/Edmonton
BEGIN:DAYLIGHT
TZOFFSETFROM:-0700
TZOFFSETTO:-0600
TZNAME:MDT
DTSTART:20240310T090000
END:DAYLIGHT
BEGIN:STANDARD
TZOFFSETFROM:-0600
TZOFFSETTO:-0700
TZNAME:MST
DTSTART:20241103T080000
END:STANDARD
BEGIN:DAYLIGHT
TZOFFSETFROM:-0700
TZOFFSETTO:-0600
TZNAME:MDT
DTSTART:20250309T090000
END:DAYLIGHT
BEGIN:STANDARD
TZOFFSETFROM:-0600
TZOFFSETTO:-0700
TZNAME:MST
DTSTART:20251102T080000
END:STANDARD
BEGIN:DAYLIGHT
TZOFFSETFROM:-0700
TZOFFSETTO:-0600
TZNAME:MDT
DTSTART:20260308T090000
END:DAYLIGHT
BEGIN:STANDARD
TZOFFSETFROM:-0600
TZOFFSETTO:-0700
TZNAME:MST
DTSTART:20261101T080000
END:STANDARD
BEGIN:DAYLIGHT
TZOFFSETFROM:-0700
TZOFFSETTO:-0600
TZNAME:MDT
DTSTART:20270314T090000
END:DAYLIGHT
BEGIN:STANDARD
TZOFFSETFROM:-0600
TZOFFSETTO:-0700
TZNAME:MST
DTSTART:20271107T080000
END:STANDARD
END:VTIMEZONE
BEGIN:VEVENT
DTSTART;TZID=America/Edmonton:20251207T090000
DTEND;TZID=America/Edmonton:20251207T170000
DTSTAMP:20260422T164611
CREATED:20251019T195715Z
LAST-MODIFIED:20251019T195715Z
UID:12317-1765098000-1765126800@alberta5pin.com
SUMMARY:Community Coach Clinic\, Sunday\, December 7th in Camrose
DESCRIPTION:Contact Ernie McLellan to register or if you have questions
URL:https://alberta5pin.com/https-alberta5pin-com-event-single-post-name/community-coach-clinic-sunday-december-7th-in-camrose/
LOCATION:Tabb Lanes\, Camrose\, 5101 52 Ave\, Camrose\, T4V 4P2
ORGANIZER;CN="Master Bowlers Association of Alberta":MAILTO:mbaofa.techdir@yahoo.ca
END:VEVENT
BEGIN:VEVENT
DTSTART;TZID=America/Edmonton:20251212T183000
DTEND;TZID=America/Edmonton:20251214T170000
DTSTAMP:20260422T164611
CREATED:20251019T200551Z
LAST-MODIFIED:20251019T200551Z
UID:12320-1765564200-1765731600@alberta5pin.com
SUMMARY:Competitive coach clinic\, December 12 – 14 in Edmonton
DESCRIPTION:Contact Ernie McLellan to register or if you have questions \nDay 1 from 6:30 to 9:00 p.m. \nDays 2 & 3 from 9 a.m. to 5:00 p.m.
URL:https://alberta5pin.com/https-alberta5pin-com-event-single-post-name/competitive-coach-clinic-december-12-14-in-edmonton/
LOCATION:Bonnie Doon\, Edmonton\, 8330 82 Ave NW\, \, AB\, Edmonton\, Ab.\, T6C 4E3\, Canada
ORGANIZER;CN="Master Bowlers Association of Alberta":MAILTO:mbaofa.techdir@yahoo.ca
END:VEVENT
BEGIN:VEVENT
DTSTART;TZID=America/Edmonton:20251213T120000
DTEND;TZID=America/Edmonton:20251213T173000
DTSTAMP:20260422T164611
CREATED:20251019T195036Z
LAST-MODIFIED:20251109T212243Z
UID:12314-1765627200-1765647000@alberta5pin.com
SUMMARY:Community Coach Clinic\, Saturday\, December 13th - ZOOM Session
DESCRIPTION:  \nContact Heidi Mapstone to register or if you have questions \n \n  \n 
URL:https://alberta5pin.com/https-alberta5pin-com-event-single-post-name/community-coach-clinic-saturday-december-13th/
LOCATION:Zoom Session\, On Line Training\, Internet Required
ORGANIZER;CN="Heidi Mapstone":MAILTO:heidimapstone@gmail.com
END:VEVENT
BEGIN:VEVENT
DTSTART;TZID=America/Edmonton:20260101T000000
DTEND;TZID=America/Edmonton:20260531T235900
DTSTAMP:20260422T164611
CREATED:20220908T052551Z
LAST-MODIFIED:20251019T195947Z
UID:7652-1767225600-1780271940@alberta5pin.com
SUMMARY:C5PBA - Perfect Game Deadline is August 31
DESCRIPTION:To receive credit for a perfect game\, full information on the game must reach the national headquarters by August 31st. of the current year. \n\n\n\nUse this form to report the perfect game
URL:https://alberta5pin.com/https-alberta5pin-com-event-single-post-name/c5pba-perfect-game-deadline/
LOCATION:A5PBA\, 432-14 St. South\, Lethbridge\, AB\, T1J 2X7\, Canada
END:VEVENT
BEGIN:VEVENT
DTSTART;TZID=America/Edmonton:20260103T120000
DTEND;TZID=America/Edmonton:20260103T170000
DTSTAMP:20260422T164611
CREATED:20251201T225238Z
LAST-MODIFIED:20251201T231628Z
UID:12395-1767441600-1767459600@alberta5pin.com
SUMMARY:Tournament Officials Clinic\, Saturday\, January 3\, 2026 - ZOOM Session
DESCRIPTION:The links in the poster can be found below the poster.\n\n\n\n\n\n\n\nAccess to \n\n\n\n\nRule book (use one of the following)\n\nOnline Rulebook\n\n\n\nEmail Shelia to get a rule book mailed to you\n\n\n\n\n\nPrint Tournament Officials Manual\n\nPrint pages 17-20\n\n\n\nPrint page 32\n\n\n\nPrint pages 63-75\n\n\n\n\n\nContact Brian Sudbury
URL:https://alberta5pin.com/https-alberta5pin-com-event-single-post-name/tournament-officials-clinic-saturday-january-3-2026-zoom-session/
LOCATION:Zoom Session\, On Line Training\, Internet Required
ORGANIZER;CN="Brian Sudbury":MAILTO:mbaofatd@gmail.com
END:VEVENT
BEGIN:VEVENT
DTSTART;VALUE=DATE:20260110
DTEND;VALUE=DATE:20260112
DTSTAMP:20260422T164611
CREATED:20231006T013632Z
LAST-MODIFIED:20260123T230153Z
UID:9837-1768003200-1768175999@alberta5pin.com
SUMMARY:A5PBA Inter Provincial - Provincial Championship
DESCRIPTION:Teams of four compete for the provincial championship. \nTop two teams attend Nationals in Saskatoon
URL:https://alberta5pin.com/https-alberta5pin-com-event-single-post-name/c5pba-interprovincial-provincial-championship/
LOCATION:HJ’s 5 Pin Bowling\, 9650 94 Avenue\, Grande Prairie\, Ab.\, T8V 6S6
END:VEVENT
BEGIN:VEVENT
DTSTART;VALUE=DATE:20260130
DTEND;VALUE=DATE:20260201
DTSTAMP:20260422T164611
CREATED:20231006T014713Z
LAST-MODIFIED:20251022T232116Z
UID:9844-1769731200-1769903999@alberta5pin.com
SUMMARY:A5PBA Youth Challenge Provincials
DESCRIPTION:For youth from 12 years of age to not yet 19 years of age as of December 31. \nTop three boys and three girls will compete in the Canadian Championship which will be held remotely.  Details to come.
URL:https://alberta5pin.com/https-alberta5pin-com-event-single-post-name/c5pba-youth-challenge-provincials-2/
LOCATION:Holiday Lanes\, Lethbridge\, 2825 - 2nd Avenue S\, Lethbridge\, Ab.\, T1J 0G8
END:VEVENT
BEGIN:VEVENT
DTSTART;VALUE=DATE:20260301
DTEND;VALUE=DATE:20260516
DTSTAMP:20260422T164611
CREATED:20220910T220742Z
LAST-MODIFIED:20251019T200058Z
UID:7785-1772323200-1778889599@alberta5pin.com
SUMMARY:C5PBA Motion Deadline
DESCRIPTION:Last day to submit motions for action at the C5PBA AGM. \n\n\n\nSubmissions must be submitted to Alberta 5 Pin for inclusion in the national meeting. \n\n\n\nSubmit motions to our secretary \n\n\n\n 
URL:https://alberta5pin.com/https-alberta5pin-com-event-single-post-name/c5pba-motion-deadline/
LOCATION:A5PBA\, 432-14 St. South\, Lethbridge\, AB\, T1J 2X7\, Canada
END:VEVENT
BEGIN:VEVENT
DTSTART;VALUE=DATE:20260325
DTEND;VALUE=DATE:20260329
DTSTAMP:20260422T164611
CREATED:20240928T202821Z
LAST-MODIFIED:20251022T232127Z
UID:11111-1774396800-1774742399@alberta5pin.com
SUMMARY:Youth Challenge Nationals
DESCRIPTION:National Championship event for top six Alberta bowlers
URL:https://alberta5pin.com/https-alberta5pin-com-event-single-post-name/youth-challenge-nationals/
LOCATION:Bonnie Doon\, Edmonton\, 8330 82 Ave NW\, \, AB\, Edmonton\, Ab.\, T6C 4E3\, Canada
END:VEVENT
BEGIN:VEVENT
DTSTART;VALUE=DATE:20260401
DTEND;VALUE=DATE:20260405
DTSTAMP:20260422T164611
CREATED:20231006T015316Z
LAST-MODIFIED:20251022T232122Z
UID:9853-1775001600-1775347199@alberta5pin.com
SUMMARY:A5PBA Open Provincial Championship
DESCRIPTION:Scratch competition in singles\, and ladies\, men’s and mixed teams
URL:https://alberta5pin.com/https-alberta5pin-com-event-single-post-name/c5pba-open-provincial-championship/
LOCATION:Heritage Lanes\, Red Deer\, 6200 67a St #8\, Red Deer\, T4P 3E8
END:VEVENT
BEGIN:VEVENT
DTSTART;VALUE=DATE:20260422
DTEND;VALUE=DATE:20260426
DTSTAMP:20260422T164611
CREATED:20231006T015530Z
LAST-MODIFIED:20260123T225832Z
UID:9855-1776816000-1777161599@alberta5pin.com
SUMMARY:C5PBA Inter Provincial Nationals
DESCRIPTION:Alberta’s teams bowl for national championship \nTwo teams of four bowlers and their selected coaches.
URL:https://alberta5pin.com/https-alberta5pin-com-event-single-post-name/c5pba-interprovincial-nationals-2/
LOCATION:Winnipeg\, Manitoba\, Winnipeg\, Manitoba\, Canada
END:VEVENT
BEGIN:VEVENT
DTSTART;VALUE=DATE:20260501
DTEND;VALUE=DATE:20260601
DTSTAMP:20260422T164611
CREATED:20220908T051958Z
LAST-MODIFIED:20250922T210748Z
UID:7649-1777593600-1780271999@alberta5pin.com
SUMMARY:Alberta Life Membership Submission - Final Deadline May 31st.
DESCRIPTION:Deadline for final submissions \n\n\n\nSubmit the names of individuals who have made significant contributions to the Alberta 5 Pin Bowler’s Association whether as a bowler\, executive\, coach\, etc. \n\n\n\nDownload the A5 Life Membership Nomination form
URL:https://alberta5pin.com/https-alberta5pin-com-event-single-post-name/alberta-life-membership-submission-deadline/
LOCATION:A5PBA\, 432-14 St. South\, Lethbridge\, AB\, T1J 2X7\, Canada
END:VEVENT
BEGIN:VEVENT
DTSTART;VALUE=DATE:20260603
DTEND;VALUE=DATE:20260607
DTSTAMP:20260422T164611
CREATED:20220910T215858Z
LAST-MODIFIED:20251022T230945Z
UID:7782-1780444800-1780790399@alberta5pin.com
SUMMARY:C5PBA Open nationals
DESCRIPTION:National scratch bowling championships with competitions in Regina. \n\n\n\n\nSingles\nLadies teams\nMen’s teams\nMixed teams\n\n\n\n\n 
URL:https://alberta5pin.com/https-alberta5pin-com-event-single-post-name/c5pba/
LOCATION:St. John’s\, Newfoundland
END:VEVENT
END:VCALENDAR