BEGIN:VCALENDAR
VERSION:2.0
PRODID:-//Alberta 5 Pin Bowlers' Association - ECPv6.15.20//NONSGML v1.0//EN
CALSCALE:GREGORIAN
METHOD:PUBLISH
X-WR-CALNAME:Alberta 5 Pin Bowlers' Association
X-ORIGINAL-URL:https://alberta5pin.com
X-WR-CALDESC:Events for Alberta 5 Pin Bowlers' Association
REFRESH-INTERVAL;VALUE=DURATION:PT1H
X-Robots-Tag:noindex
X-PUBLISHED-TTL:PT1H
BEGIN:VTIMEZONE
TZID:America/Edmonton
BEGIN:DAYLIGHT
TZOFFSETFROM:-0700
TZOFFSETTO:-0600
TZNAME:MDT
DTSTART:20250309T090000
END:DAYLIGHT
BEGIN:STANDARD
TZOFFSETFROM:-0600
TZOFFSETTO:-0700
TZNAME:MST
DTSTART:20251102T080000
END:STANDARD
BEGIN:DAYLIGHT
TZOFFSETFROM:-0700
TZOFFSETTO:-0600
TZNAME:MDT
DTSTART:20260308T090000
END:DAYLIGHT
BEGIN:STANDARD
TZOFFSETFROM:-0600
TZOFFSETTO:-0700
TZNAME:MST
DTSTART:20261101T080000
END:STANDARD
BEGIN:DAYLIGHT
TZOFFSETFROM:-0700
TZOFFSETTO:-0600
TZNAME:MDT
DTSTART:20270314T090000
END:DAYLIGHT
BEGIN:STANDARD
TZOFFSETFROM:-0600
TZOFFSETTO:-0700
TZNAME:MST
DTSTART:20271107T080000
END:STANDARD
END:VTIMEZONE
BEGIN:VEVENT
DTSTART;TZID=America/Edmonton:20260101T000000
DTEND;TZID=America/Edmonton:20260531T235900
DTSTAMP:20260422T152531
CREATED:20220908T052551Z
LAST-MODIFIED:20251019T195947Z
UID:7652-1767225600-1780271940@alberta5pin.com
SUMMARY:C5PBA - Perfect Game Deadline is August 31
DESCRIPTION:To receive credit for a perfect game\, full information on the game must reach the national headquarters by August 31st. of the current year. \n\n\n\nUse this form to report the perfect game
URL:https://alberta5pin.com/https-alberta5pin-com-event-single-post-name/c5pba-perfect-game-deadline/
LOCATION:A5PBA\, 432-14 St. South\, Lethbridge\, AB\, T1J 2X7\, Canada
END:VEVENT
END:VCALENDAR